BEGIN:VCALENDAR
VERSION:2.0
PRODID:-//City of Union Gap - ECPv6.15.20//NONSGML v1.0//EN
CALSCALE:GREGORIAN
METHOD:PUBLISH
X-WR-CALNAME:City of Union Gap
X-ORIGINAL-URL:https://uniongapwa.gov
X-WR-CALDESC:Events for City of Union Gap
REFRESH-INTERVAL;VALUE=DURATION:PT1H
X-Robots-Tag:noindex
X-PUBLISHED-TTL:PT1H
BEGIN:VTIMEZONE
TZID:America/Los_Angeles
BEGIN:DAYLIGHT
TZOFFSETFROM:-0800
TZOFFSETTO:-0700
TZNAME:PDT
DTSTART:20220313T100000
END:DAYLIGHT
BEGIN:STANDARD
TZOFFSETFROM:-0700
TZOFFSETTO:-0800
TZNAME:PST
DTSTART:20221106T090000
END:STANDARD
BEGIN:DAYLIGHT
TZOFFSETFROM:-0800
TZOFFSETTO:-0700
TZNAME:PDT
DTSTART:20230312T100000
END:DAYLIGHT
BEGIN:STANDARD
TZOFFSETFROM:-0700
TZOFFSETTO:-0800
TZNAME:PST
DTSTART:20231105T090000
END:STANDARD
BEGIN:DAYLIGHT
TZOFFSETFROM:-0800
TZOFFSETTO:-0700
TZNAME:PDT
DTSTART:20240310T100000
END:DAYLIGHT
BEGIN:STANDARD
TZOFFSETFROM:-0700
TZOFFSETTO:-0800
TZNAME:PST
DTSTART:20241103T090000
END:STANDARD
END:VTIMEZONE
BEGIN:VEVENT
DTSTART;VALUE=DATE:20230506
DTEND;VALUE=DATE:20230507
DTSTAMP:20260424T160023
CREATED:20230411T164142Z
LAST-MODIFIED:20230411T164444Z
UID:5045-1683331200-1683417599@uniongapwa.gov
SUMMARY:ACTIVITIES BUILDING RESERVED
DESCRIPTION:ACTIVITIES BUILDING RESERVED 
URL:https://uniongapwa.gov/event/activities-building-reserved-35/
LOCATION:Ahtanum Youth Park
CATEGORIES:Building Reservations
END:VEVENT
BEGIN:VEVENT
DTSTART;VALUE=DATE:20230506
DTEND;VALUE=DATE:20230507
DTSTAMP:20260424T160023
CREATED:20230417T172121Z
LAST-MODIFIED:20230417T172126Z
UID:5223-1683331200-1683417599@uniongapwa.gov
SUMMARY:NORTH FIELD
DESCRIPTION:FULLBRIGHT PARK – NORTH FIELD
URL:https://uniongapwa.gov/event/north-field-4/
LOCATION:Fullbright Park
CATEGORIES:Building Reservations
END:VEVENT
BEGIN:VEVENT
DTSTART;VALUE=DATE:20230506
DTEND;VALUE=DATE:20230507
DTSTAMP:20260424T160023
CREATED:20230420T161839Z
LAST-MODIFIED:20230420T161900Z
UID:5322-1683331200-1683417599@uniongapwa.gov
SUMMARY:BARN RESERVED
DESCRIPTION:BARN RESERVED 
URL:https://uniongapwa.gov/event/barn-reserved-57/
LOCATION:Ahtanum Youth Park
CATEGORIES:Building Reservations
END:VEVENT
BEGIN:VEVENT
DTSTART;VALUE=DATE:20230506
DTEND;VALUE=DATE:20230507
DTSTAMP:20260424T160023
CREATED:20230501T151829Z
LAST-MODIFIED:20230501T151835Z
UID:5389-1683331200-1683417599@uniongapwa.gov
SUMMARY:SHELTER STAGE
DESCRIPTION:FULLBRIGHT – SHELTER STAGE
URL:https://uniongapwa.gov/event/shelter-stage-15/
LOCATION:Fullbright Park
CATEGORIES:Building Reservations
END:VEVENT
BEGIN:VEVENT
DTSTART;VALUE=DATE:20230506
DTEND;VALUE=DATE:20230507
DTSTAMP:20260424T160023
CREATED:20230504T232059Z
LAST-MODIFIED:20230504T232106Z
UID:5394-1683331200-1683417599@uniongapwa.gov
SUMMARY:NORTH SHELTER
DESCRIPTION:YOUTH ACTIVITIES PARK – NORTH FIELD
URL:https://uniongapwa.gov/event/north-shelter-3/
LOCATION:Ahtanum Youth Park
CATEGORIES:Building Reservations
END:VEVENT
BEGIN:VEVENT
DTSTART;VALUE=DATE:20230512
DTEND;VALUE=DATE:20230513
DTSTAMP:20260424T160023
CREATED:20230411T164656Z
LAST-MODIFIED:20230411T164703Z
UID:5051-1683849600-1683935999@uniongapwa.gov
SUMMARY:ACTIVITIES BUILDING SET UP
DESCRIPTION:ACTIVITIES BUILDING SET UP 
URL:https://uniongapwa.gov/event/activities-building-set-up-26/
LOCATION:Ahtanum Youth Park
CATEGORIES:Building Reservations
END:VEVENT
BEGIN:VEVENT
DTSTART;VALUE=DATE:20230512
DTEND;VALUE=DATE:20230513
DTSTAMP:20260424T160023
CREATED:20230418T150652Z
LAST-MODIFIED:20230418T150754Z
UID:5240-1683849600-1683935999@uniongapwa.gov
SUMMARY:BARN RESERVED
DESCRIPTION:BARN RESERVED 
URL:https://uniongapwa.gov/event/barn-reserved-56/
LOCATION:Ahtanum Youth Park
CATEGORIES:Building Reservations
END:VEVENT
BEGIN:VEVENT
DTSTART;VALUE=DATE:20230513
DTEND;VALUE=DATE:20230514
DTSTAMP:20260424T160023
CREATED:20230512T190811Z
LAST-MODIFIED:20230512T191946Z
UID:5415-1683936000-1684022399@uniongapwa.gov
SUMMARY:CENTRAL SHELTER
DESCRIPTION:AHTANUM YOUTH PARK – CENTRAL SHELTER
URL:https://uniongapwa.gov/event/central-shelter-6/
LOCATION:Ahtanum Youth Park
CATEGORIES:Building Reservations
END:VEVENT
BEGIN:VEVENT
DTSTART;VALUE=DATE:20230513
DTEND;VALUE=DATE:20230514
DTSTAMP:20260424T160023
CREATED:20230411T164250Z
LAST-MODIFIED:20230411T164524Z
UID:5047-1683936000-1684022399@uniongapwa.gov
SUMMARY:BARN RESERVED
DESCRIPTION:BARN RESERVED 
URL:https://uniongapwa.gov/event/barn-reserved-39/
LOCATION:Ahtanum Youth Park
CATEGORIES:Building Reservations
END:VEVENT
BEGIN:VEVENT
DTSTART;VALUE=DATE:20230513
DTEND;VALUE=DATE:20230514
DTSTAMP:20260424T160023
CREATED:20230411T164818Z
LAST-MODIFIED:20230411T164825Z
UID:5053-1683936000-1684022399@uniongapwa.gov
SUMMARY:ACTIVITIES BUILDING RESERVED
DESCRIPTION:ACTIVITIES BUILDING RESERVED 
URL:https://uniongapwa.gov/event/activities-building-reserved-36/
LOCATION:Ahtanum Youth Park
CATEGORIES:Building Reservations
END:VEVENT
BEGIN:VEVENT
DTSTART;VALUE=DATE:20230513
DTEND;VALUE=DATE:20230514
DTSTAMP:20260424T160023
CREATED:20230417T172223Z
LAST-MODIFIED:20230417T172229Z
UID:5225-1683936000-1684022399@uniongapwa.gov
SUMMARY:SHELTER STAGE
DESCRIPTION:FULLBRIGHT PARK – SHELTER STAGE
URL:https://uniongapwa.gov/event/shelter-stage-5/
LOCATION:Fullbright Park
CATEGORIES:Building Reservations
END:VEVENT
BEGIN:VEVENT
DTSTART;VALUE=DATE:20230514
DTEND;VALUE=DATE:20230515
DTSTAMP:20260424T160023
CREATED:20230411T164909Z
LAST-MODIFIED:20230411T164925Z
UID:5055-1684022400-1684108799@uniongapwa.gov
SUMMARY:BARN RESERVED
DESCRIPTION:BARN RESERVED 
URL:https://uniongapwa.gov/event/barn-reserved-40/
LOCATION:Ahtanum Youth Park
CATEGORIES:Building Reservations
END:VEVENT
BEGIN:VEVENT
DTSTART;VALUE=DATE:20230520
DTEND;VALUE=DATE:20230521
DTSTAMP:20260424T160023
CREATED:20230503T193734Z
LAST-MODIFIED:20230503T193739Z
UID:5392-1684540800-1684627199@uniongapwa.gov
SUMMARY:SHELTER STAGE
DESCRIPTION:FULLBRIGHT PARK – SHELTER STAGE
URL:https://uniongapwa.gov/event/shelter-stage-16/
LOCATION:Fullbright Park
CATEGORIES:Building Reservations
END:VEVENT
BEGIN:VEVENT
DTSTART;VALUE=DATE:20230520
DTEND;VALUE=DATE:20230521
DTSTAMP:20260424T160023
CREATED:20230504T232324Z
LAST-MODIFIED:20230504T235157Z
UID:5397-1684540800-1684627199@uniongapwa.gov
SUMMARY:NORTH FIELD
DESCRIPTION:YOUTH ACTIVITIES PARK – NORTH SHELTER
URL:https://uniongapwa.gov/event/north-field-5/
LOCATION:Ahtanum Youth Park
CATEGORIES:Building Reservations
END:VEVENT
BEGIN:VEVENT
DTSTART;VALUE=DATE:20230520
DTEND;VALUE=DATE:20230521
DTSTAMP:20260424T160023
CREATED:20230516T152406Z
LAST-MODIFIED:20230516T152414Z
UID:5424-1684540800-1684627199@uniongapwa.gov
SUMMARY:SOUTH SHELTER
DESCRIPTION:YOUTH ACTIVITIES PARK – SOUTH SHELTER
URL:https://uniongapwa.gov/event/south-shelter-2/
LOCATION:Ahtanum Youth Park
CATEGORIES:Building Reservations
END:VEVENT
BEGIN:VEVENT
DTSTART;VALUE=DATE:20230521
DTEND;VALUE=DATE:20230522
DTSTAMP:20260424T160023
CREATED:20230518T182647Z
LAST-MODIFIED:20230518T182651Z
UID:5432-1684627200-1684713599@uniongapwa.gov
SUMMARY:CORRAL AREA
DESCRIPTION:FULLBRIGHT PARK – CORRAL AREA
URL:https://uniongapwa.gov/event/corral-area-4/
LOCATION:Fullbright Park
CATEGORIES:Building Reservations
END:VEVENT
BEGIN:VEVENT
DTSTART;VALUE=DATE:20230526
DTEND;VALUE=DATE:20230527
DTSTAMP:20260424T160023
CREATED:20230411T165101Z
LAST-MODIFIED:20230411T165119Z
UID:5059-1685059200-1685145599@uniongapwa.gov
SUMMARY:BARN SET UP
DESCRIPTION:BARN SET UP 
URL:https://uniongapwa.gov/event/barn-set-up-19/
LOCATION:Ahtanum Youth Park
CATEGORIES:Building Reservations
END:VEVENT
BEGIN:VEVENT
DTSTART;VALUE=DATE:20230527
DTEND;VALUE=DATE:20230528
DTSTAMP:20260424T160023
CREATED:20230411T165022Z
LAST-MODIFIED:20230411T165029Z
UID:5057-1685145600-1685231999@uniongapwa.gov
SUMMARY:ACTIVITIES BUILDING RESERVED
DESCRIPTION:ACTIVITIES BUILDING RESERVED 
URL:https://uniongapwa.gov/event/activities-building-reserved-37/
LOCATION:Ahtanum Youth Park
CATEGORIES:Building Reservations
END:VEVENT
BEGIN:VEVENT
DTSTART;VALUE=DATE:20230527
DTEND;VALUE=DATE:20230528
DTSTAMP:20260424T160023
CREATED:20230411T165148Z
LAST-MODIFIED:20230411T165155Z
UID:5061-1685145600-1685231999@uniongapwa.gov
SUMMARY:BARN RESERVED
DESCRIPTION:BARN RESERVED 
URL:https://uniongapwa.gov/event/barn-reserved-41/
LOCATION:Ahtanum Youth Park
CATEGORIES:Building Reservations
END:VEVENT
BEGIN:VEVENT
DTSTART;VALUE=DATE:20230527
DTEND;VALUE=DATE:20230528
DTSTAMP:20260424T160023
CREATED:20230417T172305Z
LAST-MODIFIED:20230417T172311Z
UID:5227-1685145600-1685231999@uniongapwa.gov
SUMMARY:CENTRAL SHELTER
DESCRIPTION:AHTANUM YOUTH PARK – CENTRAL SHELTER
URL:https://uniongapwa.gov/event/central-shelter-2/
LOCATION:Ahtanum Youth Park
CATEGORIES:Building Reservations
END:VEVENT
BEGIN:VEVENT
DTSTART;VALUE=DATE:20230527
DTEND;VALUE=DATE:20230528
DTSTAMP:20260424T160023
CREATED:20230523T150744Z
LAST-MODIFIED:20230523T150750Z
UID:5438-1685145600-1685231999@uniongapwa.gov
SUMMARY:NORTH SHELTER
DESCRIPTION:YOUTH ACTIVITIES PARK – NORTH SHELTER
URL:https://uniongapwa.gov/event/north-shelter-5/
LOCATION:Ahtanum Youth Park
CATEGORIES:Building Reservations
END:VEVENT
BEGIN:VEVENT
DTSTART;VALUE=DATE:20230528
DTEND;VALUE=DATE:20230529
DTSTAMP:20260424T160023
CREATED:20230411T165235Z
LAST-MODIFIED:20230411T165242Z
UID:5063-1685232000-1685318399@uniongapwa.gov
SUMMARY:ACTIVITIES BUILDING RESERVED
DESCRIPTION:ACTIVITIES BUILDING RESERVED 
URL:https://uniongapwa.gov/event/activities-building-reserved-38/
LOCATION:Ahtanum Youth Park
CATEGORIES:Building Reservations
END:VEVENT
BEGIN:VEVENT
DTSTART;VALUE=DATE:20230528
DTEND;VALUE=DATE:20230529
DTSTAMP:20260424T160023
CREATED:20230417T172358Z
LAST-MODIFIED:20230417T172404Z
UID:5229-1685232000-1685318399@uniongapwa.gov
SUMMARY:SHELTER STAGE
DESCRIPTION:FULLBRIGHT PARK – SHELTER STAGE
URL:https://uniongapwa.gov/event/shelter-stage-6/
LOCATION:Fullbright Park
CATEGORIES:Building Reservations
END:VEVENT
BEGIN:VEVENT
DTSTART;VALUE=DATE:20230528
DTEND;VALUE=DATE:20230529
DTSTAMP:20260424T160023
CREATED:20230418T145736Z
LAST-MODIFIED:20230418T145743Z
UID:5237-1685232000-1685318399@uniongapwa.gov
SUMMARY:CENTRAL SHELTER
DESCRIPTION:YOUTH ACTIVITIES PARK – CENTRAL SHELTER
URL:https://uniongapwa.gov/event/central-shelter-3/
LOCATION:Ahtanum Youth Park
CATEGORIES:Building Reservations
END:VEVENT
BEGIN:VEVENT
DTSTART;VALUE=DATE:20230529
DTEND;VALUE=DATE:20230530
DTSTAMP:20260424T160023
CREATED:20230417T172502Z
LAST-MODIFIED:20230417T172507Z
UID:5231-1685318400-1685404799@uniongapwa.gov
SUMMARY:CENTRAL 1
DESCRIPTION:AHTANUM YOUTH ACTIVITIES PARK – CENTRAL 1
URL:https://uniongapwa.gov/event/central-1/
LOCATION:Ahtanum Youth Park
CATEGORIES:Building Reservations
END:VEVENT
END:VCALENDAR