BEGIN:VCALENDAR
VERSION:2.0
PRODID:-//City of Union Gap - ECPv6.15.20//NONSGML v1.0//EN
CALSCALE:GREGORIAN
METHOD:PUBLISH
X-ORIGINAL-URL:https://uniongapwa.gov
X-WR-CALDESC:Events for City of Union Gap
REFRESH-INTERVAL;VALUE=DURATION:PT1H
X-Robots-Tag:noindex
X-PUBLISHED-TTL:PT1H
BEGIN:VTIMEZONE
TZID:America/Los_Angeles
BEGIN:DAYLIGHT
TZOFFSETFROM:-0800
TZOFFSETTO:-0700
TZNAME:PDT
DTSTART:20220313T100000
END:DAYLIGHT
BEGIN:STANDARD
TZOFFSETFROM:-0700
TZOFFSETTO:-0800
TZNAME:PST
DTSTART:20221106T090000
END:STANDARD
BEGIN:DAYLIGHT
TZOFFSETFROM:-0800
TZOFFSETTO:-0700
TZNAME:PDT
DTSTART:20230312T100000
END:DAYLIGHT
BEGIN:STANDARD
TZOFFSETFROM:-0700
TZOFFSETTO:-0800
TZNAME:PST
DTSTART:20231105T090000
END:STANDARD
BEGIN:DAYLIGHT
TZOFFSETFROM:-0800
TZOFFSETTO:-0700
TZNAME:PDT
DTSTART:20240310T100000
END:DAYLIGHT
BEGIN:STANDARD
TZOFFSETFROM:-0700
TZOFFSETTO:-0800
TZNAME:PST
DTSTART:20241103T090000
END:STANDARD
END:VTIMEZONE
BEGIN:VEVENT
DTSTART;VALUE=DATE:20230408
DTEND;VALUE=DATE:20230409
DTSTAMP:20260424T143729
CREATED:20230406T232441Z
LAST-MODIFIED:20230406T232441Z
UID:5010-1680912000-1680998399@uniongapwa.gov
SUMMARY:Building Reservation
DESCRIPTION:Barn
URL:https://uniongapwa.gov/event/building-reservation-2/
LOCATION:Ahtanum Youth Park
CATEGORIES:Building Reservations
END:VEVENT
BEGIN:VEVENT
DTSTART;VALUE=DATE:20230408
DTEND;VALUE=DATE:20230409
DTSTAMP:20260424T143729
CREATED:20230406T232525Z
LAST-MODIFIED:20230406T232525Z
UID:5012-1680912000-1680998399@uniongapwa.gov
SUMMARY:Park Reservation
DESCRIPTION:Corral Area
URL:https://uniongapwa.gov/event/park-reservation-6/
LOCATION:Fullbright Park
CATEGORIES:Building Reservations
END:VEVENT
BEGIN:VEVENT
DTSTART;VALUE=DATE:20230408
DTEND;VALUE=DATE:20230409
DTSTAMP:20260424T143729
CREATED:20230406T232953Z
LAST-MODIFIED:20230406T232953Z
UID:5014-1680912000-1680998399@uniongapwa.gov
SUMMARY:Park Reservation
DESCRIPTION:North Field
URL:https://uniongapwa.gov/event/park-reservation-7/
LOCATION:Fullbright Park
CATEGORIES:Building Reservations
END:VEVENT
BEGIN:VEVENT
DTSTART;VALUE=DATE:20230408
DTEND;VALUE=DATE:20230409
DTSTAMP:20260424T143729
CREATED:20230406T233020Z
LAST-MODIFIED:20230406T233020Z
UID:5016-1680912000-1680998399@uniongapwa.gov
SUMMARY:Park Reservation
DESCRIPTION:Shelter Stage
URL:https://uniongapwa.gov/event/park-reservation-8/
LOCATION:Fullbright Park
CATEGORIES:Building Reservations
END:VEVENT
BEGIN:VEVENT
DTSTART;VALUE=DATE:20230409
DTEND;VALUE=DATE:20230410
DTSTAMP:20260424T143729
CREATED:20230406T233315Z
LAST-MODIFIED:20230406T233315Z
UID:5021-1680998400-1681084799@uniongapwa.gov
SUMMARY:Park Reservation
DESCRIPTION:South Shelter
URL:https://uniongapwa.gov/event/park-reservation/
LOCATION:Fullbright Park
CATEGORIES:Building Reservations
END:VEVENT
BEGIN:VEVENT
DTSTART;VALUE=DATE:20230415
DTEND;VALUE=DATE:20230416
DTSTAMP:20260424T143729
CREATED:20230411T161953Z
LAST-MODIFIED:20230411T162226Z
UID:5041-1681516800-1681603199@uniongapwa.gov
SUMMARY:CENTRAL SHELTER AREA
DESCRIPTION:AHTANUM YOUTH PARK – CENTRAL SHELTER AREA
URL:https://uniongapwa.gov/event/central-shelter-area/
CATEGORIES:Building Reservations
END:VEVENT
BEGIN:VEVENT
DTSTART;VALUE=DATE:20230415
DTEND;VALUE=DATE:20230416
DTSTAMP:20260424T143729
CREATED:20230410T172832Z
LAST-MODIFIED:20230410T174705Z
UID:5026-1681516800-1681603199@uniongapwa.gov
SUMMARY:BARN RESERVED
DESCRIPTION:YOUTH BARN 
URL:https://uniongapwa.gov/event/building-reservation/
LOCATION:Ahtanum Youth Park
CATEGORIES:Building Reservations
END:VEVENT
BEGIN:VEVENT
DTSTART;VALUE=DATE:20230415
DTEND;VALUE=DATE:20230416
DTSTAMP:20260424T143729
CREATED:20230410T174548Z
LAST-MODIFIED:20230410T175122Z
UID:5031-1681516800-1681603199@uniongapwa.gov
SUMMARY:ACTIVITIES BUILDING  SET UP
DESCRIPTION:ACTIVITIES BUILDING SET UP FROM 4P.M. TO 10P.M.
URL:https://uniongapwa.gov/event/barn-set-up-18/
LOCATION:Ahtanum Youth Park
CATEGORIES:Building Reservations
END:VEVENT
BEGIN:VEVENT
DTSTART;VALUE=DATE:20230415
DTEND;VALUE=DATE:20230416
DTSTAMP:20260424T143729
CREATED:20230411T175730Z
LAST-MODIFIED:20230411T175736Z
UID:5188-1681516800-1681603199@uniongapwa.gov
SUMMARY:SHELTER STAGE
DESCRIPTION:FULLBRIGHT PARK – SHELTER STAGE
URL:https://uniongapwa.gov/event/shelter-stage/
CATEGORIES:Building Reservations
END:VEVENT
BEGIN:VEVENT
DTSTART;VALUE=DATE:20230415
DTEND;VALUE=DATE:20230416
DTSTAMP:20260424T143729
CREATED:20230411T180953Z
LAST-MODIFIED:20230411T180958Z
UID:5190-1681516800-1681603199@uniongapwa.gov
SUMMARY:CORRAL AREA
DESCRIPTION:FULLBRIGHT PARK – CORRAL AREA
URL:https://uniongapwa.gov/event/corral-area/
END:VEVENT
BEGIN:VEVENT
DTSTART;VALUE=DATE:20230415
DTEND;VALUE=DATE:20230416
DTSTAMP:20260424T143729
CREATED:20230411T181121Z
LAST-MODIFIED:20230411T181227Z
UID:5192-1681516800-1681603199@uniongapwa.gov
SUMMARY:NORTH FIELD
DESCRIPTION:FULLBRIGHT PARK – NORTH FIELD AREA
URL:https://uniongapwa.gov/event/north-field/
LOCATION:Fullbright Park
END:VEVENT
BEGIN:VEVENT
DTSTART;VALUE=DATE:20230415
DTEND;VALUE=DATE:20230416
DTSTAMP:20260424T143729
CREATED:20230411T181508Z
LAST-MODIFIED:20230411T181513Z
UID:5194-1681516800-1681603199@uniongapwa.gov
SUMMARY:CORRAL AREA
DESCRIPTION:FULLBRIGHT PARK – CORRAL AREA
URL:https://uniongapwa.gov/event/corral-area-2/
LOCATION:Fullbright Park
CATEGORIES:Building Reservations
END:VEVENT
BEGIN:VEVENT
DTSTART;VALUE=DATE:20230415
DTEND;VALUE=DATE:20230416
DTSTAMP:20260424T143729
CREATED:20230411T181823Z
LAST-MODIFIED:20230411T181826Z
UID:5196-1681516800-1681603199@uniongapwa.gov
SUMMARY:NORTH FIELD
DESCRIPTION:FULLBRIGHT PARK – NORTH FIELD
URL:https://uniongapwa.gov/event/north-field-2/
LOCATION:Fullbright Park
CATEGORIES:Building Reservations
END:VEVENT
BEGIN:VEVENT
DTSTART;VALUE=DATE:20230416
DTEND;VALUE=DATE:20230417
DTSTAMP:20260424T143729
CREATED:20230410T173515Z
LAST-MODIFIED:20230410T174842Z
UID:5028-1681603200-1681689599@uniongapwa.gov
SUMMARY:ACTIVITIES BUILDING RESERVED
DESCRIPTION:YOUTH ACTIVITIES BUILDING 
URL:https://uniongapwa.gov/event/building-reservation-3/
LOCATION:Ahtanum Youth Park
CATEGORIES:Building Reservations
END:VEVENT
BEGIN:VEVENT
DTSTART;VALUE=DATE:20230416
DTEND;VALUE=DATE:20230417
DTSTAMP:20260424T143729
CREATED:20230411T162711Z
LAST-MODIFIED:20230411T162719Z
UID:5043-1681603200-1681689599@uniongapwa.gov
SUMMARY:CENTRAL SHELTER AREA
DESCRIPTION:AHTANUM YOUTH PARK – CENTRAL SHELTER AREA
URL:https://uniongapwa.gov/event/central-shelter-area-2/
CATEGORIES:Building Reservations
END:VEVENT
BEGIN:VEVENT
DTSTART;VALUE=DATE:20230422
DTEND;VALUE=DATE:20230423
DTSTAMP:20260424T143729
CREATED:20230412T211955Z
LAST-MODIFIED:20230412T212958Z
UID:5207-1682121600-1682207999@uniongapwa.gov
SUMMARY:CENTRAL SHELTER AREA
DESCRIPTION:AHTANUM YOUTH PARK – CENTRAL SHELTER AREA
URL:https://uniongapwa.gov/event/central-shelter-area-3/
LOCATION:Ahtanum Youth Park
CATEGORIES:Building Reservations
END:VEVENT
BEGIN:VEVENT
DTSTART;VALUE=DATE:20230422
DTEND;VALUE=DATE:20230423
DTSTAMP:20260424T143729
CREATED:20230412T213448Z
LAST-MODIFIED:20230412T214337Z
UID:5209-1682121600-1682207999@uniongapwa.gov
SUMMARY:SHELTER STAGE
DESCRIPTION:FULLBRIGHT PARK – SHELTER STAGE AREA
URL:https://uniongapwa.gov/event/shelter-stage-2/
LOCATION:Fullbright Park
CATEGORIES:Building Reservations
END:VEVENT
BEGIN:VEVENT
DTSTART;VALUE=DATE:20230423
DTEND;VALUE=DATE:20230424
DTSTAMP:20260424T143729
CREATED:20230412T214433Z
LAST-MODIFIED:20230419T145943Z
UID:5212-1682208000-1682294399@uniongapwa.gov
SUMMARY:SHELTER STAGE
DESCRIPTION:FULLBRIGHT PARK – SHELTER STAGE
URL:https://uniongapwa.gov/event/shelter-stage-3/
LOCATION:Fullbright Park
CATEGORIES:Building Reservations
END:VEVENT
BEGIN:VEVENT
DTSTART;VALUE=DATE:20230423
DTEND;VALUE=DATE:20230424
DTSTAMP:20260424T143729
CREATED:20230412T214640Z
LAST-MODIFIED:20230412T214647Z
UID:5214-1682208000-1682294399@uniongapwa.gov
SUMMARY:NORTH FIELD
DESCRIPTION:FULLBRIGHT PARK – NORTH FIELD
URL:https://uniongapwa.gov/event/north-field-3/
LOCATION:Fullbright Park
CATEGORIES:Building Reservations
END:VEVENT
BEGIN:VEVENT
DTSTART;VALUE=DATE:20230423
DTEND;VALUE=DATE:20230424
DTSTAMP:20260424T143729
CREATED:20230412T214758Z
LAST-MODIFIED:20230412T214804Z
UID:5216-1682208000-1682294399@uniongapwa.gov
SUMMARY:CORRAL AREA
DESCRIPTION:FULLBRIGHT PARK – CORRAL AREA
URL:https://uniongapwa.gov/event/corral-area-3/
LOCATION:Fullbright Park
CATEGORIES:Building Reservations
END:VEVENT
BEGIN:VEVENT
DTSTART;VALUE=DATE:20230428
DTEND;VALUE=DATE:20230429
DTSTAMP:20260424T143729
CREATED:20230428T222303Z
LAST-MODIFIED:20230428T222309Z
UID:5387-1682640000-1682726399@uniongapwa.gov
SUMMARY:SHELTER STAGE
DESCRIPTION:FULLBRIGHT PARK – SHELTER STAGE
URL:https://uniongapwa.gov/event/shelter-stage-14/
LOCATION:Fullbright Park
CATEGORIES:Building Reservations
END:VEVENT
BEGIN:VEVENT
DTSTART;VALUE=DATE:20230429
DTEND;VALUE=DATE:20230430
DTSTAMP:20260424T143729
CREATED:20230412T214945Z
LAST-MODIFIED:20230412T214957Z
UID:5218-1682726400-1682812799@uniongapwa.gov
SUMMARY:SHELTER STAGE
DESCRIPTION:FULLBRIGHT PARK – SHELTER STAGE
URL:https://uniongapwa.gov/event/shelter-stage-4/
LOCATION:Fullbright Park
CATEGORIES:Building Reservations
END:VEVENT
BEGIN:VEVENT
DTSTART;VALUE=DATE:20230429
DTEND;VALUE=DATE:20230430
DTSTAMP:20260424T143729
CREATED:20230412T215112Z
LAST-MODIFIED:20230412T215116Z
UID:5220-1682726400-1682812799@uniongapwa.gov
SUMMARY:CENTRAL SHELTER
DESCRIPTION:AHTANUM YOUTH ACTIVITIES PARK – CENTRAL SHELTER
URL:https://uniongapwa.gov/event/central-shelter/
LOCATION:Ahtanum Youth Park
CATEGORIES:Building Reservations
END:VEVENT
BEGIN:VEVENT
DTSTART;VALUE=DATE:20230429
DTEND;VALUE=DATE:20230430
DTSTAMP:20260424T143729
CREATED:20230424T234345Z
LAST-MODIFIED:20230424T234350Z
UID:5342-1682726400-1682812799@uniongapwa.gov
SUMMARY:NORTH SHELTER
DESCRIPTION:YOUTH ACTIVITIES PARK – NORTH SHELTER
URL:https://uniongapwa.gov/event/north-shelter-2/
LOCATION:Ahtanum Youth Park
CATEGORIES:Building Reservations
END:VEVENT
END:VCALENDAR