BEGIN:VCALENDAR
VERSION:2.0
PRODID:-//City of Union Gap - ECPv6.15.20//NONSGML v1.0//EN
CALSCALE:GREGORIAN
METHOD:PUBLISH
X-ORIGINAL-URL:https://uniongapwa.gov
X-WR-CALDESC:Events for City of Union Gap
REFRESH-INTERVAL;VALUE=DURATION:PT1H
X-Robots-Tag:noindex
X-PUBLISHED-TTL:PT1H
BEGIN:VTIMEZONE
TZID:America/Los_Angeles
BEGIN:DAYLIGHT
TZOFFSETFROM:-0800
TZOFFSETTO:-0700
TZNAME:PDT
DTSTART:20210314T100000
END:DAYLIGHT
BEGIN:STANDARD
TZOFFSETFROM:-0700
TZOFFSETTO:-0800
TZNAME:PST
DTSTART:20211107T090000
END:STANDARD
BEGIN:DAYLIGHT
TZOFFSETFROM:-0800
TZOFFSETTO:-0700
TZNAME:PDT
DTSTART:20220313T100000
END:DAYLIGHT
BEGIN:STANDARD
TZOFFSETFROM:-0700
TZOFFSETTO:-0800
TZNAME:PST
DTSTART:20221106T090000
END:STANDARD
BEGIN:DAYLIGHT
TZOFFSETFROM:-0800
TZOFFSETTO:-0700
TZNAME:PDT
DTSTART:20230312T100000
END:DAYLIGHT
BEGIN:STANDARD
TZOFFSETFROM:-0700
TZOFFSETTO:-0800
TZNAME:PST
DTSTART:20231105T090000
END:STANDARD
END:VTIMEZONE
BEGIN:VEVENT
DTSTART;TZID=America/Los_Angeles:20220805T100000
DTEND;TZID=America/Los_Angeles:20220805T220000
DTSTAMP:20260424T115505
CREATED:20220719T164827Z
LAST-MODIFIED:20220719T164829Z
UID:4604-1659693600-1659736800@uniongapwa.gov
SUMMARY:Barn Set up
DESCRIPTION:
URL:https://uniongapwa.gov/event/barn-set-up-15/
LOCATION:Ahtanum Youth Park
END:VEVENT
BEGIN:VEVENT
DTSTART;VALUE=DATE:20220806
DTEND;VALUE=DATE:20220807
DTSTAMP:20260424T115505
CREATED:20220719T164800Z
LAST-MODIFIED:20220719T164802Z
UID:4602-1659744000-1659830399@uniongapwa.gov
SUMMARY:Barn Reserved
DESCRIPTION:
URL:https://uniongapwa.gov/event/barn-reserved-36/
LOCATION:Ahtanum Youth Park
END:VEVENT
BEGIN:VEVENT
DTSTART;VALUE=DATE:20220806
DTEND;VALUE=DATE:20220807
DTSTAMP:20260424T115505
CREATED:20220719T164857Z
LAST-MODIFIED:20220719T164859Z
UID:4606-1659744000-1659830399@uniongapwa.gov
SUMMARY:Activities Building Reserved
DESCRIPTION:
URL:https://uniongapwa.gov/event/activities-building-reserved-32/
LOCATION:Ahtanum Youth Park
END:VEVENT
BEGIN:VEVENT
DTSTART;TZID=America/Los_Angeles:20220812T160000
DTEND;TZID=America/Los_Angeles:20220812T220000
DTSTAMP:20260424T115505
CREATED:20220719T165011Z
LAST-MODIFIED:20220719T165013Z
UID:4612-1660320000-1660341600@uniongapwa.gov
SUMMARY:Activities Building Set up
DESCRIPTION:
URL:https://uniongapwa.gov/event/activities-building-set-up-23/
LOCATION:Ahtanum Youth Park
END:VEVENT
BEGIN:VEVENT
DTSTART;VALUE=DATE:20220813
DTEND;VALUE=DATE:20220814
DTSTAMP:20260424T115505
CREATED:20220719T164919Z
LAST-MODIFIED:20220719T164923Z
UID:4608-1660348800-1660435199@uniongapwa.gov
SUMMARY:Barn Reserved
DESCRIPTION:
URL:https://uniongapwa.gov/event/barn-reserved-37/
LOCATION:Ahtanum Youth Park
END:VEVENT
BEGIN:VEVENT
DTSTART;VALUE=DATE:20220813
DTEND;VALUE=DATE:20220814
DTSTAMP:20260424T115505
CREATED:20220719T164944Z
LAST-MODIFIED:20220719T164946Z
UID:4610-1660348800-1660435199@uniongapwa.gov
SUMMARY:Activities Building Reserved
DESCRIPTION:
URL:https://uniongapwa.gov/event/activities-building-reserved-33/
LOCATION:Ahtanum Youth Park
END:VEVENT
BEGIN:VEVENT
DTSTART;TZID=America/Los_Angeles:20220819T100000
DTEND;TZID=America/Los_Angeles:20220819T220000
DTSTAMP:20260424T115505
CREATED:20220719T165052Z
LAST-MODIFIED:20220719T165054Z
UID:4616-1660903200-1660946400@uniongapwa.gov
SUMMARY:Barn Set up
DESCRIPTION:
URL:https://uniongapwa.gov/event/barn-set-up-16/
LOCATION:Ahtanum Youth Park
END:VEVENT
BEGIN:VEVENT
DTSTART;TZID=America/Los_Angeles:20220819T160000
DTEND;TZID=America/Los_Angeles:20220819T220000
DTSTAMP:20260424T115505
CREATED:20220719T165158Z
LAST-MODIFIED:20220719T165200Z
UID:4620-1660924800-1660946400@uniongapwa.gov
SUMMARY:Activities Building Set up
DESCRIPTION:
URL:https://uniongapwa.gov/event/activities-building-set-up-24/
LOCATION:Ahtanum Youth Park
END:VEVENT
BEGIN:VEVENT
DTSTART;VALUE=DATE:20220820
DTEND;VALUE=DATE:20220821
DTSTAMP:20260424T115505
CREATED:20220719T165028Z
LAST-MODIFIED:20220719T165032Z
UID:4614-1660953600-1661039999@uniongapwa.gov
SUMMARY:Barn Reserved
DESCRIPTION:
URL:https://uniongapwa.gov/event/barn-reserved-38/
LOCATION:Ahtanum Youth Park
END:VEVENT
BEGIN:VEVENT
DTSTART;VALUE=DATE:20220820
DTEND;VALUE=DATE:20220821
DTSTAMP:20260424T115505
CREATED:20220719T165131Z
LAST-MODIFIED:20220719T165132Z
UID:4618-1660953600-1661039999@uniongapwa.gov
SUMMARY:Activities Building Reserved
DESCRIPTION:
URL:https://uniongapwa.gov/event/activities-building-reserved-34/
LOCATION:Ahtanum Youth Park
END:VEVENT
BEGIN:VEVENT
DTSTART;TZID=America/Los_Angeles:20220826T100000
DTEND;TZID=America/Los_Angeles:20220826T220000
DTSTAMP:20260424T115505
CREATED:20220719T165244Z
LAST-MODIFIED:20220719T165246Z
UID:4624-1661508000-1661551200@uniongapwa.gov
SUMMARY:Barn Set up
DESCRIPTION:
URL:https://uniongapwa.gov/event/barn-set-up-17/
LOCATION:Ahtanum Youth Park
END:VEVENT
BEGIN:VEVENT
DTSTART;TZID=America/Los_Angeles:20220826T160000
DTEND;TZID=America/Los_Angeles:20220826T220000
DTSTAMP:20260424T115505
CREATED:20220719T165339Z
LAST-MODIFIED:20220719T165342Z
UID:4628-1661529600-1661551200@uniongapwa.gov
SUMMARY:Activities Building Set up
DESCRIPTION:
URL:https://uniongapwa.gov/event/activities-building-set-up-25/
LOCATION:Ahtanum Youth Park
END:VEVENT
END:VCALENDAR