BEGIN:VCALENDAR
VERSION:2.0
PRODID:-//City of Union Gap - ECPv6.15.20//NONSGML v1.0//EN
CALSCALE:GREGORIAN
METHOD:PUBLISH
X-ORIGINAL-URL:https://uniongapwa.gov
X-WR-CALDESC:Events for City of Union Gap
REFRESH-INTERVAL;VALUE=DURATION:PT1H
X-Robots-Tag:noindex
X-PUBLISHED-TTL:PT1H
BEGIN:VTIMEZONE
TZID:America/Los_Angeles
BEGIN:DAYLIGHT
TZOFFSETFROM:-0800
TZOFFSETTO:-0700
TZNAME:PDT
DTSTART:20210314T100000
END:DAYLIGHT
BEGIN:STANDARD
TZOFFSETFROM:-0700
TZOFFSETTO:-0800
TZNAME:PST
DTSTART:20211107T090000
END:STANDARD
BEGIN:DAYLIGHT
TZOFFSETFROM:-0800
TZOFFSETTO:-0700
TZNAME:PDT
DTSTART:20220313T100000
END:DAYLIGHT
BEGIN:STANDARD
TZOFFSETFROM:-0700
TZOFFSETTO:-0800
TZNAME:PST
DTSTART:20221106T090000
END:STANDARD
BEGIN:DAYLIGHT
TZOFFSETFROM:-0800
TZOFFSETTO:-0700
TZNAME:PDT
DTSTART:20230312T100000
END:DAYLIGHT
BEGIN:STANDARD
TZOFFSETFROM:-0700
TZOFFSETTO:-0800
TZNAME:PST
DTSTART:20231105T090000
END:STANDARD
END:VTIMEZONE
BEGIN:VEVENT
DTSTART;TZID=America/Los_Angeles:20220701T160000
DTEND;TZID=America/Los_Angeles:20220701T220000
DTSTAMP:20260424T105332
CREATED:20220609T144823Z
LAST-MODIFIED:20220609T144823Z
UID:4522-1656691200-1656712800@uniongapwa.gov
SUMMARY:Activities Building Set up
DESCRIPTION:
URL:https://uniongapwa.gov/event/activities-building-set-up-18/
END:VEVENT
BEGIN:VEVENT
DTSTART;VALUE=DATE:20220702
DTEND;VALUE=DATE:20220703
DTSTAMP:20260424T105332
CREATED:20220609T144618Z
LAST-MODIFIED:20220609T144624Z
UID:4520-1656720000-1656806399@uniongapwa.gov
SUMMARY:Activities Building Reserved
DESCRIPTION:
URL:https://uniongapwa.gov/event/activities-building-reserved-27/
LOCATION:Ahtanum Youth Park
END:VEVENT
BEGIN:VEVENT
DTSTART;VALUE=DATE:20220702
DTEND;VALUE=DATE:20220703
DTSTAMP:20260424T105332
CREATED:20220609T144953Z
LAST-MODIFIED:20220609T145009Z
UID:4524-1656720000-1656806399@uniongapwa.gov
SUMMARY:Barn Reserved
DESCRIPTION:
URL:https://uniongapwa.gov/event/barn-reserved-30/
LOCATION:Ahtanum Youth Park
END:VEVENT
BEGIN:VEVENT
DTSTART;TZID=America/Los_Angeles:20220708T100000
DTEND;TZID=America/Los_Angeles:20220708T220000
DTSTAMP:20260424T105332
CREATED:20220609T145222Z
LAST-MODIFIED:20220609T145226Z
UID:4532-1657274400-1657317600@uniongapwa.gov
SUMMARY:Barn Set up
DESCRIPTION:
URL:https://uniongapwa.gov/event/barn-set-up-12/
LOCATION:Ahtanum Youth Park
END:VEVENT
BEGIN:VEVENT
DTSTART;TZID=America/Los_Angeles:20220708T160000
DTEND;TZID=America/Los_Angeles:20220708T220000
DTSTAMP:20260424T105332
CREATED:20220609T145120Z
LAST-MODIFIED:20220609T145123Z
UID:4528-1657296000-1657317600@uniongapwa.gov
SUMMARY:Activities Building Set up
DESCRIPTION:
URL:https://uniongapwa.gov/event/activities-building-set-up-19/
LOCATION:Ahtanum Youth Park
END:VEVENT
BEGIN:VEVENT
DTSTART;VALUE=DATE:20220709
DTEND;VALUE=DATE:20220710
DTSTAMP:20260424T105332
CREATED:20220609T145046Z
LAST-MODIFIED:20220609T145049Z
UID:4526-1657324800-1657411199@uniongapwa.gov
SUMMARY:Activities Building Reserved
DESCRIPTION:
URL:https://uniongapwa.gov/event/activities-building-reserved-28/
LOCATION:Ahtanum Youth Park
END:VEVENT
BEGIN:VEVENT
DTSTART;VALUE=DATE:20220709
DTEND;VALUE=DATE:20220710
DTSTAMP:20260424T105332
CREATED:20220609T145151Z
LAST-MODIFIED:20220609T145157Z
UID:4530-1657324800-1657411199@uniongapwa.gov
SUMMARY:Barn Reserved
DESCRIPTION:
URL:https://uniongapwa.gov/event/barn-reserved-31/
LOCATION:Ahtanum Youth Park
END:VEVENT
BEGIN:VEVENT
DTSTART;VALUE=DATE:20220710
DTEND;VALUE=DATE:20220711
DTSTAMP:20260424T105332
CREATED:20220609T145256Z
LAST-MODIFIED:20220609T145300Z
UID:4534-1657411200-1657497599@uniongapwa.gov
SUMMARY:Barn Reserved
DESCRIPTION:
URL:https://uniongapwa.gov/event/barn-reserved-32/
LOCATION:Ahtanum Youth Park
END:VEVENT
BEGIN:VEVENT
DTSTART;TZID=America/Los_Angeles:20220715T100000
DTEND;TZID=America/Los_Angeles:20220715T220000
DTSTAMP:20260424T105332
CREATED:20220609T145447Z
LAST-MODIFIED:20220609T145456Z
UID:4538-1657879200-1657922400@uniongapwa.gov
SUMMARY:Barn Set up
DESCRIPTION:
URL:https://uniongapwa.gov/event/barn-set-up-13/
LOCATION:Ahtanum Youth Park
END:VEVENT
BEGIN:VEVENT
DTSTART;TZID=America/Los_Angeles:20220715T160000
DTEND;TZID=America/Los_Angeles:20220715T220000
DTSTAMP:20260424T105332
CREATED:20220609T150230Z
LAST-MODIFIED:20220609T150236Z
UID:4544-1657900800-1657922400@uniongapwa.gov
SUMMARY:Activities Building Set up
DESCRIPTION:
URL:https://uniongapwa.gov/event/activities-building-set-up-20/
LOCATION:Ahtanum Youth Park
END:VEVENT
BEGIN:VEVENT
DTSTART;VALUE=DATE:20220716
DTEND;VALUE=DATE:20220717
DTSTAMP:20260424T105332
CREATED:20220609T145331Z
LAST-MODIFIED:20220609T145354Z
UID:4536-1657929600-1658015999@uniongapwa.gov
SUMMARY:Barn Reserved
DESCRIPTION:
URL:https://uniongapwa.gov/event/barn-reserved-33/
LOCATION:Ahtanum Youth Park
END:VEVENT
BEGIN:VEVENT
DTSTART;VALUE=DATE:20220716
DTEND;VALUE=DATE:20220717
DTSTAMP:20260424T105332
CREATED:20220609T150151Z
LAST-MODIFIED:20220609T150155Z
UID:4542-1657929600-1658015999@uniongapwa.gov
SUMMARY:Activities Building Reserved
DESCRIPTION:
URL:https://uniongapwa.gov/event/activities-building-reserved-29/
LOCATION:Ahtanum Youth Park
END:VEVENT
BEGIN:VEVENT
DTSTART;TZID=America/Los_Angeles:20220717T090000
DTEND;TZID=America/Los_Angeles:20220717T120000
DTSTAMP:20260424T105332
CREATED:20220609T145531Z
LAST-MODIFIED:20220609T150109Z
UID:4540-1658048400-1658059200@uniongapwa.gov
SUMMARY:Barn Clean up
DESCRIPTION:
URL:https://uniongapwa.gov/event/barn-clean-up/
LOCATION:Ahtanum Youth Park
END:VEVENT
BEGIN:VEVENT
DTSTART;TZID=America/Los_Angeles:20220722T160000
DTEND;TZID=America/Los_Angeles:20220722T220000
DTSTAMP:20260424T105332
CREATED:20220609T150418Z
LAST-MODIFIED:20220609T150421Z
UID:4550-1658505600-1658527200@uniongapwa.gov
SUMMARY:Activities Building Set up
DESCRIPTION:
URL:https://uniongapwa.gov/event/activities-building-set-up-21/
LOCATION:Ahtanum Youth Park
END:VEVENT
BEGIN:VEVENT
DTSTART;VALUE=DATE:20220723
DTEND;VALUE=DATE:20220724
DTSTAMP:20260424T105332
CREATED:20220609T150259Z
LAST-MODIFIED:20220609T150307Z
UID:4546-1658534400-1658620799@uniongapwa.gov
SUMMARY:Barn Reserved
DESCRIPTION:
URL:https://uniongapwa.gov/event/barn-reserved-34/
LOCATION:Ahtanum Youth Park
END:VEVENT
BEGIN:VEVENT
DTSTART;VALUE=DATE:20220723
DTEND;VALUE=DATE:20220724
DTSTAMP:20260424T105332
CREATED:20220609T150343Z
LAST-MODIFIED:20220609T150347Z
UID:4548-1658534400-1658620799@uniongapwa.gov
SUMMARY:Activities Building Reserved
DESCRIPTION:
URL:https://uniongapwa.gov/event/activities-building-reserved-30/
LOCATION:Ahtanum Youth Park
END:VEVENT
BEGIN:VEVENT
DTSTART;TZID=America/Los_Angeles:20220729T100000
DTEND;TZID=America/Los_Angeles:20220729T220000
DTSTAMP:20260424T105332
CREATED:20220609T150521Z
LAST-MODIFIED:20220609T150525Z
UID:4554-1659088800-1659132000@uniongapwa.gov
SUMMARY:Barn Set up
DESCRIPTION:
URL:https://uniongapwa.gov/event/barn-set-up-14/
LOCATION:Ahtanum Youth Park
END:VEVENT
BEGIN:VEVENT
DTSTART;TZID=America/Los_Angeles:20220729T160000
DTEND;TZID=America/Los_Angeles:20220729T220000
DTSTAMP:20260424T105332
CREATED:20220609T150653Z
LAST-MODIFIED:20220609T150700Z
UID:4558-1659110400-1659132000@uniongapwa.gov
SUMMARY:Activities Building Set up
DESCRIPTION:
URL:https://uniongapwa.gov/event/activities-building-set-up-22/
LOCATION:Ahtanum Youth Park
END:VEVENT
BEGIN:VEVENT
DTSTART;VALUE=DATE:20220730
DTEND;VALUE=DATE:20220731
DTSTAMP:20260424T105332
CREATED:20220609T150451Z
LAST-MODIFIED:20220609T150459Z
UID:4552-1659139200-1659225599@uniongapwa.gov
SUMMARY:Barn Reserved
DESCRIPTION:
URL:https://uniongapwa.gov/event/barn-reserved-35/
LOCATION:Ahtanum Youth Park
END:VEVENT
BEGIN:VEVENT
DTSTART;VALUE=DATE:20220730
DTEND;VALUE=DATE:20220731
DTSTAMP:20260424T105332
CREATED:20220609T150558Z
LAST-MODIFIED:20220609T150602Z
UID:4556-1659139200-1659225599@uniongapwa.gov
SUMMARY:Activities Building Reserved
DESCRIPTION:
URL:https://uniongapwa.gov/event/activities-building-reserved-31/
LOCATION:Ahtanum Youth Park
END:VEVENT
END:VCALENDAR