BEGIN:VCALENDAR
VERSION:2.0
PRODID:-//City of Union Gap - ECPv6.15.20//NONSGML v1.0//EN
CALSCALE:GREGORIAN
METHOD:PUBLISH
X-ORIGINAL-URL:https://uniongapwa.gov
X-WR-CALDESC:Events for City of Union Gap
REFRESH-INTERVAL;VALUE=DURATION:PT1H
X-Robots-Tag:noindex
X-PUBLISHED-TTL:PT1H
BEGIN:VTIMEZONE
TZID:America/Los_Angeles
BEGIN:DAYLIGHT
TZOFFSETFROM:-0800
TZOFFSETTO:-0700
TZNAME:PDT
DTSTART:20200308T100000
END:DAYLIGHT
BEGIN:STANDARD
TZOFFSETFROM:-0700
TZOFFSETTO:-0800
TZNAME:PST
DTSTART:20201101T090000
END:STANDARD
BEGIN:DAYLIGHT
TZOFFSETFROM:-0800
TZOFFSETTO:-0700
TZNAME:PDT
DTSTART:20210314T100000
END:DAYLIGHT
BEGIN:STANDARD
TZOFFSETFROM:-0700
TZOFFSETTO:-0800
TZNAME:PST
DTSTART:20211107T090000
END:STANDARD
BEGIN:DAYLIGHT
TZOFFSETFROM:-0800
TZOFFSETTO:-0700
TZNAME:PDT
DTSTART:20220313T100000
END:DAYLIGHT
BEGIN:STANDARD
TZOFFSETFROM:-0700
TZOFFSETTO:-0800
TZNAME:PST
DTSTART:20221106T090000
END:STANDARD
END:VTIMEZONE
BEGIN:VEVENT
DTSTART;VALUE=DATE:20211204
DTEND;VALUE=DATE:20211205
DTSTAMP:20260424T014513
CREATED:20211013T172227Z
LAST-MODIFIED:20211013T172237Z
UID:3945-1638576000-1638662399@uniongapwa.gov
SUMMARY:Activities Building Reserved
DESCRIPTION:
URL:https://uniongapwa.gov/event/activities-building-reserved-13/
LOCATION:Ahtanum Youth Park
END:VEVENT
BEGIN:VEVENT
DTSTART;TZID=America/Los_Angeles:20211210T110000
DTEND;TZID=America/Los_Angeles:20211210T150000
DTSTAMP:20260424T014513
CREATED:20211026T214128Z
LAST-MODIFIED:20211026T214132Z
UID:3971-1639134000-1639148400@uniongapwa.gov
SUMMARY:Activities Building Reserved
DESCRIPTION:
URL:https://uniongapwa.gov/event/activities-building-reserved-15/
LOCATION:Ahtanum Youth Park
END:VEVENT
BEGIN:VEVENT
DTSTART;VALUE=DATE:20211211
DTEND;VALUE=DATE:20211212
DTSTAMP:20260424T014513
CREATED:20211013T172304Z
LAST-MODIFIED:20211013T172308Z
UID:3947-1639180800-1639267199@uniongapwa.gov
SUMMARY:Activities Building Reserved
DESCRIPTION:
URL:https://uniongapwa.gov/event/activities-building-reserved-14/
LOCATION:Ahtanum Youth Park
END:VEVENT
BEGIN:VEVENT
DTSTART;VALUE=DATE:20211211
DTEND;VALUE=DATE:20211212
DTSTAMP:20260424T014513
CREATED:20211104T232433Z
LAST-MODIFIED:20211104T232441Z
UID:4000-1639180800-1639267199@uniongapwa.gov
SUMMARY:Barn Reserved
DESCRIPTION:
URL:https://uniongapwa.gov/event/barn-reserved-19/
LOCATION:Ahtanum Youth Park
END:VEVENT
BEGIN:VEVENT
DTSTART;TZID=America/Los_Angeles:20211217T100000
DTEND;TZID=America/Los_Angeles:20211217T220000
DTSTAMP:20260424T014513
CREATED:20211103T230017Z
LAST-MODIFIED:20211103T230022Z
UID:3985-1639735200-1639778400@uniongapwa.gov
SUMMARY:Barn Set up Reserved
DESCRIPTION:
URL:https://uniongapwa.gov/event/barn-set-up-reserved/
LOCATION:Ahtanum Youth Park
END:VEVENT
BEGIN:VEVENT
DTSTART;VALUE=DATE:20211218
DTEND;VALUE=DATE:20211219
DTSTAMP:20260424T014513
CREATED:20211103T225940Z
LAST-MODIFIED:20211103T225940Z
UID:3983-1639785600-1639871999@uniongapwa.gov
SUMMARY:Barn Reserved
DESCRIPTION:
URL:https://uniongapwa.gov/event/barn-reserved-18/
LOCATION:Ahtanum Youth Park
END:VEVENT
END:VCALENDAR