BEGIN:VCALENDAR
VERSION:2.0
PRODID:-//City of Union Gap - ECPv6.15.20//NONSGML v1.0//EN
CALSCALE:GREGORIAN
METHOD:PUBLISH
X-WR-CALNAME:City of Union Gap
X-ORIGINAL-URL:https://uniongapwa.gov
X-WR-CALDESC:Events for City of Union Gap
REFRESH-INTERVAL;VALUE=DURATION:PT1H
X-Robots-Tag:noindex
X-PUBLISHED-TTL:PT1H
BEGIN:VTIMEZONE
TZID:America/Los_Angeles
BEGIN:DAYLIGHT
TZOFFSETFROM:-0800
TZOFFSETTO:-0700
TZNAME:PDT
DTSTART:20200308T100000
END:DAYLIGHT
BEGIN:STANDARD
TZOFFSETFROM:-0700
TZOFFSETTO:-0800
TZNAME:PST
DTSTART:20201101T090000
END:STANDARD
BEGIN:DAYLIGHT
TZOFFSETFROM:-0800
TZOFFSETTO:-0700
TZNAME:PDT
DTSTART:20210314T100000
END:DAYLIGHT
BEGIN:STANDARD
TZOFFSETFROM:-0700
TZOFFSETTO:-0800
TZNAME:PST
DTSTART:20211107T090000
END:STANDARD
BEGIN:DAYLIGHT
TZOFFSETFROM:-0800
TZOFFSETTO:-0700
TZNAME:PDT
DTSTART:20220313T100000
END:DAYLIGHT
BEGIN:STANDARD
TZOFFSETFROM:-0700
TZOFFSETTO:-0800
TZNAME:PST
DTSTART:20221106T090000
END:STANDARD
END:VTIMEZONE
BEGIN:VEVENT
DTSTART;TZID=America/Los_Angeles:20210903T100000
DTEND;TZID=America/Los_Angeles:20210903T220000
DTSTAMP:20260423T221103
CREATED:20210902T142448Z
LAST-MODIFIED:20210902T142448Z
UID:3831-1630663200-1630706400@uniongapwa.gov
SUMMARY:Barn Set up
DESCRIPTION:
URL:https://uniongapwa.gov/event/barn-set-up-4/
LOCATION:Ahtanum Youth Park
END:VEVENT
BEGIN:VEVENT
DTSTART;VALUE=DATE:20210904
DTEND;VALUE=DATE:20210905
DTSTAMP:20260423T221103
CREATED:20210902T142411Z
LAST-MODIFIED:20210902T142411Z
UID:3829-1630713600-1630799999@uniongapwa.gov
SUMMARY:Barn Reserved
DESCRIPTION:
URL:https://uniongapwa.gov/event/barn-reserved-13/
LOCATION:Ahtanum Youth Park
END:VEVENT
BEGIN:VEVENT
DTSTART;TZID=America/Los_Angeles:20210917T100000
DTEND;TZID=America/Los_Angeles:20210917T220000
DTSTAMP:20260423T221103
CREATED:20210902T142648Z
LAST-MODIFIED:20210902T142648Z
UID:3835-1631872800-1631916000@uniongapwa.gov
SUMMARY:Barn Set up
DESCRIPTION:
URL:https://uniongapwa.gov/event/barn-set-up-5/
LOCATION:Ahtanum Youth Park
END:VEVENT
BEGIN:VEVENT
DTSTART;VALUE=DATE:20210918
DTEND;VALUE=DATE:20210919
DTSTAMP:20260423T221103
CREATED:20210902T142530Z
LAST-MODIFIED:20210902T142530Z
UID:3833-1631923200-1632009599@uniongapwa.gov
SUMMARY:Barn Reserved
DESCRIPTION:
URL:https://uniongapwa.gov/event/barn-reserved-14/
LOCATION:Ahtanum Youth Park
END:VEVENT
BEGIN:VEVENT
DTSTART;VALUE=DATE:20210918
DTEND;VALUE=DATE:20210919
DTSTAMP:20260423T221103
CREATED:20210902T142731Z
LAST-MODIFIED:20210902T142731Z
UID:3837-1631923200-1632009599@uniongapwa.gov
SUMMARY:Activities Building Reserved
DESCRIPTION:
URL:https://uniongapwa.gov/event/activities-building-reserved-10/
LOCATION:Ahtanum Youth Park
END:VEVENT
BEGIN:VEVENT
DTSTART;TZID=America/Los_Angeles:20210924T100000
DTEND;TZID=America/Los_Angeles:20210924T220000
DTSTAMP:20260423T221103
CREATED:20210902T143132Z
LAST-MODIFIED:20210902T143132Z
UID:3843-1632477600-1632520800@uniongapwa.gov
SUMMARY:Barn Set up
DESCRIPTION:
URL:https://uniongapwa.gov/event/barn-set-up-6/
LOCATION:Ahtanum Youth Park
END:VEVENT
BEGIN:VEVENT
DTSTART;TZID=America/Los_Angeles:20210924T160000
DTEND;TZID=America/Los_Angeles:20210924T220000
DTSTAMP:20260423T221103
CREATED:20210910T160608Z
LAST-MODIFIED:20210910T160608Z
UID:3855-1632499200-1632520800@uniongapwa.gov
SUMMARY:Activities Building Set up
DESCRIPTION:
URL:https://uniongapwa.gov/event/activities-building-set-up-6/
LOCATION:Ahtanum Youth Park
END:VEVENT
BEGIN:VEVENT
DTSTART;VALUE=DATE:20210925
DTEND;VALUE=DATE:20210926
DTSTAMP:20260423T221103
CREATED:20210902T143031Z
LAST-MODIFIED:20210902T143031Z
UID:3839-1632528000-1632614399@uniongapwa.gov
SUMMARY:Activities Building Reserved
DESCRIPTION:
URL:https://uniongapwa.gov/event/activities-building-reserved-11/
LOCATION:Ahtanum Youth Park
END:VEVENT
BEGIN:VEVENT
DTSTART;VALUE=DATE:20210925
DTEND;VALUE=DATE:20210926
DTSTAMP:20260423T221103
CREATED:20210902T143100Z
LAST-MODIFIED:20210902T143100Z
UID:3841-1632528000-1632614399@uniongapwa.gov
SUMMARY:Barn Reserved
DESCRIPTION:
URL:https://uniongapwa.gov/event/barn-reserved-15/
LOCATION:Ahtanum Youth Park
END:VEVENT
END:VCALENDAR