BEGIN:VCALENDAR
VERSION:2.0
PRODID:-//City of Union Gap - ECPv6.15.20//NONSGML v1.0//EN
CALSCALE:GREGORIAN
METHOD:PUBLISH
X-ORIGINAL-URL:https://uniongapwa.gov
X-WR-CALDESC:Events for City of Union Gap
REFRESH-INTERVAL;VALUE=DURATION:PT1H
X-Robots-Tag:noindex
X-PUBLISHED-TTL:PT1H
BEGIN:VTIMEZONE
TZID:America/Los_Angeles
BEGIN:DAYLIGHT
TZOFFSETFROM:-0800
TZOFFSETTO:-0700
TZNAME:PDT
DTSTART:20200308T100000
END:DAYLIGHT
BEGIN:STANDARD
TZOFFSETFROM:-0700
TZOFFSETTO:-0800
TZNAME:PST
DTSTART:20201101T090000
END:STANDARD
BEGIN:DAYLIGHT
TZOFFSETFROM:-0800
TZOFFSETTO:-0700
TZNAME:PDT
DTSTART:20210314T100000
END:DAYLIGHT
BEGIN:STANDARD
TZOFFSETFROM:-0700
TZOFFSETTO:-0800
TZNAME:PST
DTSTART:20211107T090000
END:STANDARD
BEGIN:DAYLIGHT
TZOFFSETFROM:-0800
TZOFFSETTO:-0700
TZNAME:PDT
DTSTART:20220313T100000
END:DAYLIGHT
BEGIN:STANDARD
TZOFFSETFROM:-0700
TZOFFSETTO:-0800
TZNAME:PST
DTSTART:20221106T090000
END:STANDARD
END:VTIMEZONE
BEGIN:VEVENT
DTSTART;TZID=America/Los_Angeles:20210806T160000
DTEND;TZID=America/Los_Angeles:20210806T220000
DTSTAMP:20260423T205016
CREATED:20210802T192250Z
LAST-MODIFIED:20210802T192250Z
UID:3772-1628265600-1628287200@uniongapwa.gov
SUMMARY:Activities Building Reserved Set up
DESCRIPTION:
URL:https://uniongapwa.gov/event/activities-building-reserved-set-up/
LOCATION:Ahtanum Youth Park
END:VEVENT
BEGIN:VEVENT
DTSTART;VALUE=DATE:20210807
DTEND;VALUE=DATE:20210808
DTSTAMP:20260423T205016
CREATED:20210802T191050Z
LAST-MODIFIED:20210802T191050Z
UID:3768-1628294400-1628380799@uniongapwa.gov
SUMMARY:Barn Reserved
DESCRIPTION:
URL:https://uniongapwa.gov/event/barn-reserved-9/
LOCATION:Ahtanum Youth Park
END:VEVENT
BEGIN:VEVENT
DTSTART;VALUE=DATE:20210807
DTEND;VALUE=DATE:20210808
DTSTAMP:20260423T205016
CREATED:20210802T192201Z
LAST-MODIFIED:20210802T192201Z
UID:3770-1628294400-1628380799@uniongapwa.gov
SUMMARY:Activities Building Reserved
DESCRIPTION:
URL:https://uniongapwa.gov/event/activities-building-reserved-7/
LOCATION:Ahtanum Youth Park
END:VEVENT
BEGIN:VEVENT
DTSTART;TZID=America/Los_Angeles:20210808T090000
DTEND;TZID=America/Los_Angeles:20210808T120000
DTSTAMP:20260423T205016
CREATED:20210802T192334Z
LAST-MODIFIED:20210802T192334Z
UID:3774-1628413200-1628424000@uniongapwa.gov
SUMMARY:Activities Building Reserved Clean-up
DESCRIPTION:
URL:https://uniongapwa.gov/event/activities-building-reserved-clean-up/
LOCATION:Ahtanum Youth Park
END:VEVENT
BEGIN:VEVENT
DTSTART;TZID=America/Los_Angeles:20210813T160000
DTEND;TZID=America/Los_Angeles:20210813T220000
DTSTAMP:20260423T205016
CREATED:20210802T192441Z
LAST-MODIFIED:20210802T192441Z
UID:3778-1628870400-1628892000@uniongapwa.gov
SUMMARY:Activities Building Reserved Set up
DESCRIPTION:
URL:https://uniongapwa.gov/event/activities-building-reserved-set-up-2/
LOCATION:Ahtanum Youth Park
END:VEVENT
BEGIN:VEVENT
DTSTART;VALUE=DATE:20210814
DTEND;VALUE=DATE:20210815
DTSTAMP:20260423T205016
CREATED:20210802T192404Z
LAST-MODIFIED:20210802T192404Z
UID:3776-1628899200-1628985599@uniongapwa.gov
SUMMARY:Activities Building Reserved
DESCRIPTION:
URL:https://uniongapwa.gov/event/activities-building-reserved-8/
LOCATION:Ahtanum Youth Park
END:VEVENT
BEGIN:VEVENT
DTSTART;VALUE=DATE:20210814
DTEND;VALUE=DATE:20210815
DTSTAMP:20260423T205016
CREATED:20210802T192645Z
LAST-MODIFIED:20210802T192645Z
UID:3780-1628899200-1628985599@uniongapwa.gov
SUMMARY:Barn Reserved
DESCRIPTION:
URL:https://uniongapwa.gov/event/barn-reserved-10/
LOCATION:Ahtanum Youth Park
END:VEVENT
BEGIN:VEVENT
DTSTART;TZID=America/Los_Angeles:20210820T100000
DTEND;TZID=America/Los_Angeles:20210820T220000
DTSTAMP:20260423T205016
CREATED:20210802T192834Z
LAST-MODIFIED:20210802T192834Z
UID:3784-1629453600-1629496800@uniongapwa.gov
SUMMARY:Barn Reserved Set up
DESCRIPTION:
URL:https://uniongapwa.gov/event/barn-reserved-set-up/
LOCATION:Ahtanum Youth Park
END:VEVENT
BEGIN:VEVENT
DTSTART;VALUE=DATE:20210821
DTEND;VALUE=DATE:20210822
DTSTAMP:20260423T205016
CREATED:20210802T192753Z
LAST-MODIFIED:20210802T192753Z
UID:3782-1629504000-1629590399@uniongapwa.gov
SUMMARY:Barn Reserved
DESCRIPTION:
URL:https://uniongapwa.gov/event/barn-reserved-11/
LOCATION:Ahtanum Youth Park
END:VEVENT
BEGIN:VEVENT
DTSTART;TZID=America/Los_Angeles:20210827T100000
DTEND;TZID=America/Los_Angeles:20210827T220000
DTSTAMP:20260423T205016
CREATED:20210802T193703Z
LAST-MODIFIED:20210802T193703Z
UID:3792-1630058400-1630101600@uniongapwa.gov
SUMMARY:Barn Reserved Set up
DESCRIPTION:
URL:https://uniongapwa.gov/event/barn-reserved-set-up-2/
LOCATION:Ahtanum Youth Park
END:VEVENT
BEGIN:VEVENT
DTSTART;TZID=America/Los_Angeles:20210827T160000
DTEND;TZID=America/Los_Angeles:20210827T220000
DTSTAMP:20260423T205016
CREATED:20210802T193355Z
LAST-MODIFIED:20210802T193355Z
UID:3788-1630080000-1630101600@uniongapwa.gov
SUMMARY:Activities Building Reserved Set up
DESCRIPTION:
URL:https://uniongapwa.gov/event/activities-building-reserved-set-up-3/
LOCATION:Ahtanum Youth Park
END:VEVENT
BEGIN:VEVENT
DTSTART;VALUE=DATE:20210828
DTEND;VALUE=DATE:20210829
DTSTAMP:20260423T205016
CREATED:20210802T193122Z
LAST-MODIFIED:20210802T193122Z
UID:3786-1630108800-1630195199@uniongapwa.gov
SUMMARY:Activities Building Reserved
DESCRIPTION:
URL:https://uniongapwa.gov/event/activities-building-reserved-9/
LOCATION:Ahtanum Youth Park
END:VEVENT
BEGIN:VEVENT
DTSTART;VALUE=DATE:20210828
DTEND;VALUE=DATE:20210829
DTSTAMP:20260423T205016
CREATED:20210802T193632Z
LAST-MODIFIED:20210802T193632Z
UID:3790-1630108800-1630195199@uniongapwa.gov
SUMMARY:Barn Reserved
DESCRIPTION:
URL:https://uniongapwa.gov/event/barn-reserved-12/
LOCATION:Ahtanum Youth Park
END:VEVENT
END:VCALENDAR