BEGIN:VCALENDAR
VERSION:2.0
PRODID:-//City of Union Gap - ECPv6.15.20//NONSGML v1.0//EN
CALSCALE:GREGORIAN
METHOD:PUBLISH
X-ORIGINAL-URL:https://uniongapwa.gov
X-WR-CALDESC:Events for City of Union Gap
REFRESH-INTERVAL;VALUE=DURATION:PT1H
X-Robots-Tag:noindex
X-PUBLISHED-TTL:PT1H
BEGIN:VTIMEZONE
TZID:America/Los_Angeles
BEGIN:DAYLIGHT
TZOFFSETFROM:-0800
TZOFFSETTO:-0700
TZNAME:PDT
DTSTART:20200308T100000
END:DAYLIGHT
BEGIN:STANDARD
TZOFFSETFROM:-0700
TZOFFSETTO:-0800
TZNAME:PST
DTSTART:20201101T090000
END:STANDARD
BEGIN:DAYLIGHT
TZOFFSETFROM:-0800
TZOFFSETTO:-0700
TZNAME:PDT
DTSTART:20210314T100000
END:DAYLIGHT
BEGIN:STANDARD
TZOFFSETFROM:-0700
TZOFFSETTO:-0800
TZNAME:PST
DTSTART:20211107T090000
END:STANDARD
BEGIN:DAYLIGHT
TZOFFSETFROM:-0800
TZOFFSETTO:-0700
TZNAME:PDT
DTSTART:20220313T100000
END:DAYLIGHT
BEGIN:STANDARD
TZOFFSETFROM:-0700
TZOFFSETTO:-0800
TZNAME:PST
DTSTART:20221106T090000
END:STANDARD
END:VTIMEZONE
BEGIN:VEVENT
DTSTART;TZID=America/Los_Angeles:20210702T160000
DTEND;TZID=America/Los_Angeles:20210702T220000
DTSTAMP:20260423T221006
CREATED:20210629T150052Z
LAST-MODIFIED:20210629T150052Z
UID:3680-1625241600-1625263200@uniongapwa.gov
SUMMARY:Activities Building Set up
DESCRIPTION:
URL:https://uniongapwa.gov/event/activities-building-set-up-4/
LOCATION:Ahtanum Youth Park
END:VEVENT
BEGIN:VEVENT
DTSTART;VALUE=DATE:20210703
DTEND;VALUE=DATE:20210704
DTSTAMP:20260423T221006
CREATED:20210629T145950Z
LAST-MODIFIED:20210629T145950Z
UID:3678-1625270400-1625356799@uniongapwa.gov
SUMMARY:Activities Building Reserved
DESCRIPTION:
URL:https://uniongapwa.gov/event/activities-building-reserved-4/
LOCATION:Ahtanum Youth Park
END:VEVENT
BEGIN:VEVENT
DTSTART;VALUE=DATE:20210710
DTEND;VALUE=DATE:20210711
DTSTAMP:20260423T221006
CREATED:20210629T150235Z
LAST-MODIFIED:20210629T150235Z
UID:3682-1625875200-1625961599@uniongapwa.gov
SUMMARY:Barn Reserved
DESCRIPTION:
URL:https://uniongapwa.gov/event/barn-reserved-6/
LOCATION:Ahtanum Youth Park
END:VEVENT
BEGIN:VEVENT
DTSTART;TZID=America/Los_Angeles:20210716T100000
DTEND;TZID=America/Los_Angeles:20210716T220000
DTSTAMP:20260423T221006
CREATED:20210629T150351Z
LAST-MODIFIED:20210629T150351Z
UID:3684-1626429600-1626472800@uniongapwa.gov
SUMMARY:Barn Set up
DESCRIPTION:
URL:https://uniongapwa.gov/event/barn-set-up-2/
LOCATION:Ahtanum Youth Park
END:VEVENT
BEGIN:VEVENT
DTSTART;TZID=America/Los_Angeles:20210716T160000
DTEND;TZID=America/Los_Angeles:20210716T220000
DTSTAMP:20260423T221006
CREATED:20210629T150709Z
LAST-MODIFIED:20210629T150709Z
UID:3688-1626451200-1626472800@uniongapwa.gov
SUMMARY:Activities Building Set up
DESCRIPTION:
URL:https://uniongapwa.gov/event/activities-building-set-up-5/
LOCATION:Ahtanum Youth Park
END:VEVENT
BEGIN:VEVENT
DTSTART;VALUE=DATE:20210717
DTEND;VALUE=DATE:20210718
DTSTAMP:20260423T221006
CREATED:20210629T150459Z
LAST-MODIFIED:20210629T150459Z
UID:3686-1626480000-1626566399@uniongapwa.gov
SUMMARY:Barn Reserved
DESCRIPTION:
URL:https://uniongapwa.gov/event/barn-reserved-7/
LOCATION:Ahtanum Youth Park
END:VEVENT
BEGIN:VEVENT
DTSTART;VALUE=DATE:20210717
DTEND;VALUE=DATE:20210718
DTSTAMP:20260423T221006
CREATED:20210629T150752Z
LAST-MODIFIED:20210629T150752Z
UID:3690-1626480000-1626566399@uniongapwa.gov
SUMMARY:Activities Building Reserved
DESCRIPTION:
URL:https://uniongapwa.gov/event/activities-building-reserved-5/
LOCATION:Ahtanum Youth Park
END:VEVENT
BEGIN:VEVENT
DTSTART;TZID=America/Los_Angeles:20210730T100000
DTEND;TZID=America/Los_Angeles:20210730T220000
DTSTAMP:20260423T221006
CREATED:20210629T150903Z
LAST-MODIFIED:20210629T150903Z
UID:3692-1627639200-1627682400@uniongapwa.gov
SUMMARY:Barn Set up
DESCRIPTION:
URL:https://uniongapwa.gov/event/barn-set-up-3/
LOCATION:Ahtanum Youth Park
END:VEVENT
BEGIN:VEVENT
DTSTART;VALUE=DATE:20210731
DTEND;VALUE=DATE:20210801
DTSTAMP:20260423T221006
CREATED:20210629T150942Z
LAST-MODIFIED:20210629T150942Z
UID:3694-1627689600-1627775999@uniongapwa.gov
SUMMARY:Barn Reserved
DESCRIPTION:
URL:https://uniongapwa.gov/event/barn-reserved-8/
LOCATION:Ahtanum Youth Park
END:VEVENT
BEGIN:VEVENT
DTSTART;VALUE=DATE:20210731
DTEND;VALUE=DATE:20210801
DTSTAMP:20260423T221006
CREATED:20210629T151030Z
LAST-MODIFIED:20210629T151048Z
UID:3696-1627689600-1627775999@uniongapwa.gov
SUMMARY:Activities Building Reserved
DESCRIPTION:
URL:https://uniongapwa.gov/event/activities-building-reserved-6/
LOCATION:Ahtanum Youth Park
END:VEVENT
END:VCALENDAR