BEGIN:VCALENDAR
VERSION:2.0
PRODID:-//City of Union Gap - ECPv6.15.20//NONSGML v1.0//EN
CALSCALE:GREGORIAN
METHOD:PUBLISH
X-ORIGINAL-URL:https://uniongapwa.gov
X-WR-CALDESC:Events for City of Union Gap
REFRESH-INTERVAL;VALUE=DURATION:PT1H
X-Robots-Tag:noindex
X-PUBLISHED-TTL:PT1H
BEGIN:VTIMEZONE
TZID:America/Los_Angeles
BEGIN:DAYLIGHT
TZOFFSETFROM:-0800
TZOFFSETTO:-0700
TZNAME:PDT
DTSTART:20200308T100000
END:DAYLIGHT
BEGIN:STANDARD
TZOFFSETFROM:-0700
TZOFFSETTO:-0800
TZNAME:PST
DTSTART:20201101T090000
END:STANDARD
BEGIN:DAYLIGHT
TZOFFSETFROM:-0800
TZOFFSETTO:-0700
TZNAME:PDT
DTSTART:20210314T100000
END:DAYLIGHT
BEGIN:STANDARD
TZOFFSETFROM:-0700
TZOFFSETTO:-0800
TZNAME:PST
DTSTART:20211107T090000
END:STANDARD
BEGIN:DAYLIGHT
TZOFFSETFROM:-0800
TZOFFSETTO:-0700
TZNAME:PDT
DTSTART:20220313T100000
END:DAYLIGHT
BEGIN:STANDARD
TZOFFSETFROM:-0700
TZOFFSETTO:-0800
TZNAME:PST
DTSTART:20221106T090000
END:STANDARD
END:VTIMEZONE
BEGIN:VEVENT
DTSTART;VALUE=DATE:20210508
DTEND;VALUE=DATE:20210509
DTSTAMP:20260424T003437
CREATED:20210427T145424Z
LAST-MODIFIED:20210427T145430Z
UID:3558-1620432000-1620518399@uniongapwa.gov
SUMMARY:Barn Reserve
DESCRIPTION:
URL:https://uniongapwa.gov/event/barn-reserve/
LOCATION:Ahtanum Youth Park
END:VEVENT
BEGIN:VEVENT
DTSTART;VALUE=DATE:20210515
DTEND;VALUE=DATE:20210516
DTSTAMP:20260424T003437
CREATED:20210427T154119Z
LAST-MODIFIED:20210427T154119Z
UID:3560-1621036800-1621123199@uniongapwa.gov
SUMMARY:Activities Reserve
DESCRIPTION:
URL:https://uniongapwa.gov/event/activities-reserve/
LOCATION:Ahtanum Youth Park
END:VEVENT
BEGIN:VEVENT
DTSTART;TZID=America/Los_Angeles:20210528T100000
DTEND;TZID=America/Los_Angeles:20210528T220000
DTSTAMP:20260424T003437
CREATED:20210427T154503Z
LAST-MODIFIED:20210427T154506Z
UID:3566-1622196000-1622239200@uniongapwa.gov
SUMMARY:Barn Set up Reserve
DESCRIPTION:
URL:https://uniongapwa.gov/event/barn-set-up-reserve/
LOCATION:Ahtanum Youth Park
END:VEVENT
BEGIN:VEVENT
DTSTART;VALUE=DATE:20210529
DTEND;VALUE=DATE:20210530
DTSTAMP:20260424T003437
CREATED:20210427T154411Z
LAST-MODIFIED:20210427T154411Z
UID:3564-1622246400-1622332799@uniongapwa.gov
SUMMARY:Barn Reserve
DESCRIPTION:
URL:https://uniongapwa.gov/event/barn-reserve-3/
LOCATION:Ahtanum Youth Park
END:VEVENT
END:VCALENDAR