BEGIN:VCALENDAR
VERSION:2.0
PRODID:-//City of Union Gap - ECPv6.15.20//NONSGML v1.0//EN
CALSCALE:GREGORIAN
METHOD:PUBLISH
X-ORIGINAL-URL:https://uniongapwa.gov
X-WR-CALDESC:Events for City of Union Gap
REFRESH-INTERVAL;VALUE=DURATION:PT1H
X-Robots-Tag:noindex
X-PUBLISHED-TTL:PT1H
BEGIN:VTIMEZONE
TZID:America/Los_Angeles
BEGIN:DAYLIGHT
TZOFFSETFROM:-0800
TZOFFSETTO:-0700
TZNAME:PDT
DTSTART:20230312T100000
END:DAYLIGHT
BEGIN:STANDARD
TZOFFSETFROM:-0700
TZOFFSETTO:-0800
TZNAME:PST
DTSTART:20231105T090000
END:STANDARD
BEGIN:DAYLIGHT
TZOFFSETFROM:-0800
TZOFFSETTO:-0700
TZNAME:PDT
DTSTART:20240310T100000
END:DAYLIGHT
BEGIN:STANDARD
TZOFFSETFROM:-0700
TZOFFSETTO:-0800
TZNAME:PST
DTSTART:20241103T090000
END:STANDARD
BEGIN:DAYLIGHT
TZOFFSETFROM:-0800
TZOFFSETTO:-0700
TZNAME:PDT
DTSTART:20250309T100000
END:DAYLIGHT
BEGIN:STANDARD
TZOFFSETFROM:-0700
TZOFFSETTO:-0800
TZNAME:PST
DTSTART:20251102T090000
END:STANDARD
END:VTIMEZONE
BEGIN:VEVENT
DTSTART;TZID=America/Los_Angeles:20240802T100000
DTEND;TZID=America/Los_Angeles:20240802T220000
DTSTAMP:20260419T061010
CREATED:20240311T223804Z
LAST-MODIFIED:20240311T223804Z
UID:6153-1722592800-1722636000@uniongapwa.gov
SUMMARY:BARN SET UP
DESCRIPTION:
URL:https://uniongapwa.gov/event/barn-set-up-29/
LOCATION:Ahtanum Youth Park
CATEGORIES:Building Reservations
END:VEVENT
BEGIN:VEVENT
DTSTART;VALUE=DATE:20240803
DTEND;VALUE=DATE:20240804
DTSTAMP:20260419T061010
CREATED:20240320T172751Z
LAST-MODIFIED:20240320T172758Z
UID:6193-1722643200-1722729599@uniongapwa.gov
SUMMARY:SHELTER / STAGE
DESCRIPTION:SHELTER / STAGE – FULLBRIGHT PARK
URL:https://uniongapwa.gov/event/shelter-stage-42/
LOCATION:Ahtanum Youth Park
CATEGORIES:Building Reservations
END:VEVENT
BEGIN:VEVENT
DTSTART;VALUE=DATE:20240803
DTEND;VALUE=DATE:20240804
DTSTAMP:20260419T061010
CREATED:20240702T180449Z
LAST-MODIFIED:20240702T180532Z
UID:6475-1722643200-1722729599@uniongapwa.gov
SUMMARY:NORTH SHELTER
DESCRIPTION:NORTH SHELTER – YOUTH ACTIVITIES PARK
URL:https://uniongapwa.gov/event/north-shelter-38/
LOCATION:Ahtanum Youth Park
CATEGORIES:Building Reservations
END:VEVENT
BEGIN:VEVENT
DTSTART;VALUE=DATE:20240803
DTEND;VALUE=DATE:20240804
DTSTAMP:20260419T061010
CREATED:20240702T181015Z
LAST-MODIFIED:20240702T181020Z
UID:6479-1722643200-1722729599@uniongapwa.gov
SUMMARY:CENTRAL SHELTER
DESCRIPTION:CENTRAL SHELTER – YOUTH ACTIVITIES PARK
URL:https://uniongapwa.gov/event/central-shelter-41/
LOCATION:Ahtanum Youth Park
CATEGORIES:Building Reservations
END:VEVENT
BEGIN:VEVENT
DTSTART;VALUE=DATE:20240803
DTEND;VALUE=DATE:20240804
DTSTAMP:20260419T061010
CREATED:20240729T144919Z
LAST-MODIFIED:20240729T144927Z
UID:6521-1722643200-1722729599@uniongapwa.gov
SUMMARY:SOUTH SHELTER
DESCRIPTION:SOUTH SHELTER – YOUTH ACTIVITIES PARK
URL:https://uniongapwa.gov/event/south-shelter-24/
LOCATION:Ahtanum Youth Park
CATEGORIES:Building Reservations
END:VEVENT
BEGIN:VEVENT
DTSTART;TZID=America/Los_Angeles:20240803T140000
DTEND;TZID=America/Los_Angeles:20240803T210000
DTSTAMP:20260419T061010
CREATED:20240311T223721Z
LAST-MODIFIED:20240311T223721Z
UID:6151-1722693600-1722718800@uniongapwa.gov
SUMMARY:BARN
DESCRIPTION:
URL:https://uniongapwa.gov/event/barn-5/
LOCATION:Ahtanum Youth Park
CATEGORIES:Building Reservations
END:VEVENT
BEGIN:VEVENT
DTSTART;VALUE=DATE:20240804
DTEND;VALUE=DATE:20240805
DTSTAMP:20260419T061010
CREATED:20240702T180604Z
LAST-MODIFIED:20240702T180653Z
UID:6477-1722729600-1722815999@uniongapwa.gov
SUMMARY:CENTRAL SHELTER
DESCRIPTION:CENTRAL SHELTER – YOUTH ACTIVITIES PARK
URL:https://uniongapwa.gov/event/central-shelter-40/
LOCATION:Ahtanum Youth Park
CATEGORIES:Building Reservations
END:VEVENT
BEGIN:VEVENT
DTSTART;VALUE=DATE:20240806
DTEND;VALUE=DATE:20240807
DTSTAMP:20260419T061010
CREATED:20240802T170132Z
LAST-MODIFIED:20240802T170156Z
UID:6546-1722902400-1722988799@uniongapwa.gov
SUMMARY:CENTRAL 3
DESCRIPTION:CENTRAL 3 – YOUTH ACTIVITIES PARK
URL:https://uniongapwa.gov/event/central-3-9/
LOCATION:Ahtanum Youth Park
CATEGORIES:Building Reservations
END:VEVENT
BEGIN:VEVENT
DTSTART;VALUE=DATE:20240810
DTEND;VALUE=DATE:20240811
DTSTAMP:20260419T061010
CREATED:20240627T231907Z
LAST-MODIFIED:20240627T231913Z
UID:6468-1723248000-1723334399@uniongapwa.gov
SUMMARY:CENTRAL SHELTER
DESCRIPTION:CENTRAL SHELTER – YOUTH ACTIVITIES PARK
URL:https://uniongapwa.gov/event/central-shelter-39/
LOCATION:Ahtanum Youth Park
CATEGORIES:Building Reservations
END:VEVENT
BEGIN:VEVENT
DTSTART;VALUE=DATE:20240810
DTEND;VALUE=DATE:20240811
DTSTAMP:20260419T061010
CREATED:20240729T181938Z
LAST-MODIFIED:20240729T181946Z
UID:6532-1723248000-1723334399@uniongapwa.gov
SUMMARY:NORTH SHELTER
DESCRIPTION:NORTH SHELTER – YOUTH ACTIVITIES PARK
URL:https://uniongapwa.gov/event/north-shelter-43/
LOCATION:Ahtanum Youth Park
CATEGORIES:Building Reservations
END:VEVENT
BEGIN:VEVENT
DTSTART;VALUE=DATE:20240810
DTEND;VALUE=DATE:20240811
DTSTAMP:20260419T061010
CREATED:20240729T182102Z
LAST-MODIFIED:20240729T182109Z
UID:6534-1723248000-1723334399@uniongapwa.gov
SUMMARY:SHELTER / STAGE
DESCRIPTION:SHELTER / STAGE – FULLBRIGHT PARK
URL:https://uniongapwa.gov/event/shelter-stage-61/
LOCATION:Fullbright Park
CATEGORIES:Building Reservations
END:VEVENT
BEGIN:VEVENT
DTSTART;VALUE=DATE:20240810
DTEND;VALUE=DATE:20240811
DTSTAMP:20260419T061010
CREATED:20240729T182526Z
LAST-MODIFIED:20240729T182526Z
UID:6536-1723248000-1723334399@uniongapwa.gov
SUMMARY:CORRAL AREA
DESCRIPTION:CORRAL AREA – FULLBRIGHT PARK
URL:https://uniongapwa.gov/event/corral-area-15/
LOCATION:Fullbright Park
CATEGORIES:Building Reservations
END:VEVENT
BEGIN:VEVENT
DTSTART;VALUE=DATE:20240810
DTEND;VALUE=DATE:20240811
DTSTAMP:20260419T061010
CREATED:20240729T182556Z
LAST-MODIFIED:20240729T182556Z
UID:6538-1723248000-1723334399@uniongapwa.gov
SUMMARY:NORTH FIELD
DESCRIPTION:NORTH FIELD – FULLBRIGHT PARK
URL:https://uniongapwa.gov/event/north-field-18/
LOCATION:Fullbright Park
CATEGORIES:Building Reservations
END:VEVENT
BEGIN:VEVENT
DTSTART;VALUE=DATE:20240811
DTEND;VALUE=DATE:20240812
DTSTAMP:20260419T061010
CREATED:20240715T195941Z
LAST-MODIFIED:20240715T195949Z
UID:6505-1723334400-1723420799@uniongapwa.gov
SUMMARY:SHELTER / STAGE
DESCRIPTION:SHELTER / STAGE – FULLBRIGHT PARK
URL:https://uniongapwa.gov/event/shelter-stage-58/
LOCATION:Fullbright Park
CATEGORIES:Building Reservations
END:VEVENT
BEGIN:VEVENT
DTSTART;VALUE=DATE:20240811
DTEND;VALUE=DATE:20240812
DTSTAMP:20260419T061010
CREATED:20240807T220850Z
LAST-MODIFIED:20240807T220859Z
UID:6569-1723334400-1723420799@uniongapwa.gov
SUMMARY:CENTRAL SHELTER
DESCRIPTION:CENTRAL SHELTER – YOUTH PARK
URL:https://uniongapwa.gov/event/central-shelter-47/
LOCATION:Ahtanum Youth Park
CATEGORIES:Building Reservations
END:VEVENT
BEGIN:VEVENT
DTSTART;VALUE=DATE:20240811
DTEND;VALUE=DATE:20240812
DTSTAMP:20260419T061010
CREATED:20240807T233336Z
LAST-MODIFIED:20240807T233341Z
UID:6571-1723334400-1723420799@uniongapwa.gov
SUMMARY:CORRAL AREA
DESCRIPTION:CORRAL AREA – FULLBRIGHT PARK
URL:https://uniongapwa.gov/event/corral-area-16/
LOCATION:Ahtanum Youth Park
CATEGORIES:Building Reservations
END:VEVENT
BEGIN:VEVENT
DTSTART;VALUE=DATE:20240816
DTEND;VALUE=DATE:20240817
DTSTAMP:20260419T061010
CREATED:20240117T001604Z
LAST-MODIFIED:20240117T001609Z
UID:6000-1723766400-1723852799@uniongapwa.gov
SUMMARY:NORTH FIELD
DESCRIPTION:NORTH FIELD – FULLBRIGHT PARK
URL:https://uniongapwa.gov/event/north-field-9/
LOCATION:Fullbright Park
CATEGORIES:Building Reservations
END:VEVENT
BEGIN:VEVENT
DTSTART;VALUE=DATE:20240816
DTEND;VALUE=DATE:20240817
DTSTAMP:20260419T061010
CREATED:20240805T194219Z
LAST-MODIFIED:20240805T194225Z
UID:6553-1723766400-1723852799@uniongapwa.gov
SUMMARY:NORTH SHELTER
DESCRIPTION:NORTH SHELTER – YOUTH ACTIVITIES PARK
URL:https://uniongapwa.gov/event/north-shelter-44/
LOCATION:Ahtanum Youth Park
CATEGORIES:Building Reservations
END:VEVENT
BEGIN:VEVENT
DTSTART;TZID=America/Los_Angeles:20240816T100000
DTEND;TZID=America/Los_Angeles:20240816T220000
DTSTAMP:20260419T061010
CREATED:20240529T232412Z
LAST-MODIFIED:20240529T232419Z
UID:6395-1723802400-1723845600@uniongapwa.gov
SUMMARY:BARN SET UP
DESCRIPTION:
URL:https://uniongapwa.gov/event/barn-set-up-31/
LOCATION:Ahtanum Youth Park
CATEGORIES:Building Reservations
END:VEVENT
BEGIN:VEVENT
DTSTART;VALUE=DATE:20240817
DTEND;VALUE=DATE:20240818
DTSTAMP:20260419T061010
CREATED:20240117T001656Z
LAST-MODIFIED:20240117T001659Z
UID:6002-1723852800-1723939199@uniongapwa.gov
SUMMARY:SHELTER / STAGE\, NORTH FIELD\, & CORRAL - ENTIRE FULLBRIGHT PARK
DESCRIPTION:ENTIRE FULLBRIGHT PARK
URL:https://uniongapwa.gov/event/shelter-stage-north-field-corral-entire-fullbright-park-2/
LOCATION:Fullbright Park
CATEGORIES:Building Reservations
END:VEVENT
BEGIN:VEVENT
DTSTART;VALUE=DATE:20240817
DTEND;VALUE=DATE:20240818
DTSTAMP:20260419T061010
CREATED:20240529T232326Z
LAST-MODIFIED:20240529T232346Z
UID:6393-1723852800-1723939199@uniongapwa.gov
SUMMARY:BARN
DESCRIPTION:
URL:https://uniongapwa.gov/event/barn-8/
LOCATION:Ahtanum Youth Park
CATEGORIES:Building Reservations
END:VEVENT
BEGIN:VEVENT
DTSTART;VALUE=DATE:20240817
DTEND;VALUE=DATE:20240818
DTSTAMP:20260419T061010
CREATED:20240806T200642Z
LAST-MODIFIED:20240806T200645Z
UID:6556-1723852800-1723939199@uniongapwa.gov
SUMMARY:CENTRAL SHELTER
DESCRIPTION:CENTRAL SHELTER – YOUTH ACTIVITES PARK
URL:https://uniongapwa.gov/event/central-shelter-44/
LOCATION:Ahtanum Youth Park
CATEGORIES:Building Reservations
END:VEVENT
BEGIN:VEVENT
DTSTART;VALUE=DATE:20240818
DTEND;VALUE=DATE:20240819
DTSTAMP:20260419T061010
CREATED:20240117T001501Z
LAST-MODIFIED:20240117T001508Z
UID:5998-1723939200-1724025599@uniongapwa.gov
SUMMARY:SHELTER / STAGE\, NORTH FIELD\, & CORRAL - ENTIRE FULLBRIGHT PARK
DESCRIPTION:ENTIRE FULLBRIGHT PARK
URL:https://uniongapwa.gov/event/shelter-stage-north-field-corral-entire-fullbright-park/
LOCATION:Fullbright Park
CATEGORIES:Building Reservations
END:VEVENT
BEGIN:VEVENT
DTSTART;VALUE=DATE:20240823
DTEND;VALUE=DATE:20240824
DTSTAMP:20260419T061010
CREATED:20240807T143253Z
LAST-MODIFIED:20240807T143330Z
UID:6562-1724371200-1724457599@uniongapwa.gov
SUMMARY:NORTH SHELTER
DESCRIPTION:NORTH SHELTER – YOUTH ACTIVITIES PARK
URL:https://uniongapwa.gov/event/north-shelter-46/
LOCATION:Ahtanum Youth Park
CATEGORIES:Building Reservations
END:VEVENT
BEGIN:VEVENT
DTSTART;VALUE=DATE:20240824
DTEND;VALUE=DATE:20240825
DTSTAMP:20260419T061010
CREATED:20240530T185246Z
LAST-MODIFIED:20240530T185252Z
UID:6397-1724457600-1724543999@uniongapwa.gov
SUMMARY:SHELTER / STAGE
DESCRIPTION:SHELTER / STAGE – FULLBRIGHT PARK
URL:https://uniongapwa.gov/event/shelter-stage-53/
LOCATION:Fullbright Park
CATEGORIES:Building Reservations
END:VEVENT
BEGIN:VEVENT
DTSTART;VALUE=DATE:20240825
DTEND;VALUE=DATE:20240826
DTSTAMP:20260419T061010
CREATED:20240520T144415Z
LAST-MODIFIED:20240520T144423Z
UID:6369-1724544000-1724630399@uniongapwa.gov
SUMMARY:SHELTER / STAGE
DESCRIPTION:SHELTER / STAGE – FULLBRIGHT PARK
URL:https://uniongapwa.gov/event/shelter-stage-49/
LOCATION:Fullbright Park
CATEGORIES:Building Reservations
END:VEVENT
BEGIN:VEVENT
DTSTART;VALUE=DATE:20240825
DTEND;VALUE=DATE:20240826
DTSTAMP:20260419T061010
CREATED:20240530T192939Z
LAST-MODIFIED:20240530T192944Z
UID:6400-1724544000-1724630399@uniongapwa.gov
SUMMARY:NORTH FIELD
DESCRIPTION:NORTH FIELD – FULLBRIGHT PARK
URL:https://uniongapwa.gov/event/north-field-16/
LOCATION:Fullbright Park
CATEGORIES:Building Reservations
END:VEVENT
BEGIN:VEVENT
DTSTART;VALUE=DATE:20240826
DTEND;VALUE=DATE:20240827
DTSTAMP:20260419T061010
CREATED:20240819T144030Z
LAST-MODIFIED:20240819T144039Z
UID:6577-1724630400-1724716799@uniongapwa.gov
SUMMARY:SHELTER / STAGE
DESCRIPTION:SHELTER / STAGE – FULLBRIGHT PARK
URL:https://uniongapwa.gov/event/shelter-stage-63/
LOCATION:Fullbright Park
CATEGORIES:Building Reservations
END:VEVENT
BEGIN:VEVENT
DTSTART;TZID=America/Los_Angeles:20240830T160000
DTEND;TZID=America/Los_Angeles:20240830T220000
DTSTAMP:20260419T061010
CREATED:20240311T224035Z
LAST-MODIFIED:20240311T224035Z
UID:6155-1725033600-1725055200@uniongapwa.gov
SUMMARY:ACTIVITIES BUILDING SET UP
DESCRIPTION:
URL:https://uniongapwa.gov/event/activities-building-set-up-50/
LOCATION:Ahtanum Youth Park
CATEGORIES:Building Reservations
END:VEVENT
BEGIN:VEVENT
DTSTART;VALUE=DATE:20240831
DTEND;VALUE=DATE:20240901
DTSTAMP:20260419T061010
CREATED:20240111T002901Z
LAST-MODIFIED:20240111T002904Z
UID:5962-1725062400-1725148799@uniongapwa.gov
SUMMARY:ACTIVITIES BUILDING
DESCRIPTION:ACTIVITIES BUILDING
URL:https://uniongapwa.gov/event/activities-building-15/
LOCATION:Ahtanum Youth Park
CATEGORIES:Building Reservations
END:VEVENT
END:VCALENDAR